BEGIN:VCALENDAR
VERSION:2.0
PRODID:-//Tennessee Marines - ECPv6.15.20//NONSGML v1.0//EN
CALSCALE:GREGORIAN
METHOD:PUBLISH
X-ORIGINAL-URL:https://tnmarines.org
X-WR-CALDESC:Events for Tennessee Marines
REFRESH-INTERVAL;VALUE=DURATION:PT1H
X-Robots-Tag:noindex
X-PUBLISHED-TTL:PT1H
BEGIN:VTIMEZONE
TZID:America/Chicago
BEGIN:DAYLIGHT
TZOFFSETFROM:-0600
TZOFFSETTO:-0500
TZNAME:CDT
DTSTART:20230312T080000
END:DAYLIGHT
BEGIN:STANDARD
TZOFFSETFROM:-0500
TZOFFSETTO:-0600
TZNAME:CST
DTSTART:20231105T070000
END:STANDARD
BEGIN:DAYLIGHT
TZOFFSETFROM:-0600
TZOFFSETTO:-0500
TZNAME:CDT
DTSTART:20240310T080000
END:DAYLIGHT
BEGIN:STANDARD
TZOFFSETFROM:-0500
TZOFFSETTO:-0600
TZNAME:CST
DTSTART:20241103T070000
END:STANDARD
BEGIN:DAYLIGHT
TZOFFSETFROM:-0600
TZOFFSETTO:-0500
TZNAME:CDT
DTSTART:20250309T080000
END:DAYLIGHT
BEGIN:STANDARD
TZOFFSETFROM:-0500
TZOFFSETTO:-0600
TZNAME:CST
DTSTART:20251102T070000
END:STANDARD
END:VTIMEZONE
BEGIN:VEVENT
DTSTART;TZID=America/Chicago:20241107T120000
DTEND;TZID=America/Chicago:20241107T140000
DTSTAMP:20260423T143812
CREATED:20241004T185641Z
LAST-MODIFIED:20241004T185641Z
UID:198-1730980800-1730988000@tnmarines.org
SUMMARY:Veteran’s Movie Festival: Guns of Navarone
DESCRIPTION:
URL:https://tnmarines.org/event/veterans-movie-festival-guns-of-navarone/
LOCATION:Roxy 8 Movie Theater\, 646 TN-46\, Dickson\, TN\, 37055\, United States
END:VEVENT
BEGIN:VEVENT
DTSTART;TZID=America/Chicago:20241031T120000
DTEND;TZID=America/Chicago:20241031T140000
DTSTAMP:20260423T143812
CREATED:20241004T185443Z
LAST-MODIFIED:20241004T185443Z
UID:196-1730376000-1730383200@tnmarines.org
SUMMARY:Veteran’s Movie Festival: Here To Eternity
DESCRIPTION:
URL:https://tnmarines.org/event/veterans-movie-festival-here-to-eternity/
LOCATION:Roxy 8 Movie Theater\, 646 TN-46\, Dickson\, TN\, 37055\, United States
END:VEVENT
BEGIN:VEVENT
DTSTART;TZID=America/Chicago:20241024T120000
DTEND;TZID=America/Chicago:20241024T140000
DTSTAMP:20260423T143812
CREATED:20241004T185057Z
LAST-MODIFIED:20241004T185058Z
UID:192-1729771200-1729778400@tnmarines.org
SUMMARY:Veteran’s Movie Festival: Bridge on the River Qwai
DESCRIPTION:
URL:https://tnmarines.org/event/veterans-movie-festival-bridge-on-the-river-qwai/
LOCATION:Roxy 8 Movie Theater\, 646 TN-46\, Dickson\, TN\, 37055\, United States
END:VEVENT
BEGIN:VEVENT
DTSTART;TZID=America/Chicago:20241017T120000
DTEND;TZID=America/Chicago:20241017T140000
DTSTAMP:20260423T143812
CREATED:20241004T184858Z
LAST-MODIFIED:20241004T185215Z
UID:190-1729166400-1729173600@tnmarines.org
SUMMARY:Veteran’s Movie Festival: They Shall Not Grow Old
DESCRIPTION:
URL:https://tnmarines.org/event/veterans-movie-festival-they-shall-not-grow-old/
LOCATION:Roxy 8 Movie Theater\, 646 TN-46\, Dickson\, TN\, 37055\, United States
END:VEVENT
BEGIN:VEVENT
DTSTART;TZID=America/Chicago:20241010T120000
DTEND;TZID=America/Chicago:20241010T140000
DTSTAMP:20260423T143812
CREATED:20241004T184506Z
LAST-MODIFIED:20241004T190808Z
UID:181-1728561600-1728568800@tnmarines.org
SUMMARY:Veteran's Movie Festival: Full Metal Jacket
DESCRIPTION:
URL:https://tnmarines.org/event/veterans-movie-festival-full-metal-jacket/
LOCATION:Roxy 8 Movie Theater\, 646 TN-46\, Dickson\, TN\, 37055\, United States
END:VEVENT
BEGIN:VEVENT
DTSTART;TZID=America/Chicago:20241005T110000
DTEND;TZID=America/Chicago:20241005T160000
DTSTAMP:20260423T143812
CREATED:20241004T183440Z
LAST-MODIFIED:20241004T190410Z
UID:171-1728126000-1728144000@tnmarines.org
SUMMARY:7th Annual VetFest
DESCRIPTION:The 7th annual VetFest at Granny White Park in Brentwood\, TN. Heroes Walk at 0930 and Festival from 1100-1600. Check out veteran owned businesses\, veteran organizations\, food trucks and historical displays.
URL:https://tnmarines.org/event/7th-annual-vetfest/
LOCATION:Granny White Park\, 610 Granny White Pke\, Brentwood\, TN\, 37027\, United States
END:VEVENT
END:VCALENDAR